BEGIN:VCALENDAR
VERSION:2.0
PRODID:-//Heroes Hoard - ECPv6.15.20//NONSGML v1.0//EN
CALSCALE:GREGORIAN
METHOD:PUBLISH
X-WR-CALNAME:Heroes Hoard
X-ORIGINAL-URL:https://heroeshoard.com
X-WR-CALDESC:Events for Heroes Hoard
REFRESH-INTERVAL;VALUE=DURATION:PT1H
X-Robots-Tag:noindex
X-PUBLISHED-TTL:PT1H
BEGIN:VTIMEZONE
TZID:America/New_York
BEGIN:DAYLIGHT
TZOFFSETFROM:-0500
TZOFFSETTO:-0400
TZNAME:EDT
DTSTART:20250309T070000
END:DAYLIGHT
BEGIN:STANDARD
TZOFFSETFROM:-0400
TZOFFSETTO:-0500
TZNAME:EST
DTSTART:20251102T060000
END:STANDARD
BEGIN:DAYLIGHT
TZOFFSETFROM:-0500
TZOFFSETTO:-0400
TZNAME:EDT
DTSTART:20260308T070000
END:DAYLIGHT
BEGIN:STANDARD
TZOFFSETFROM:-0400
TZOFFSETTO:-0500
TZNAME:EST
DTSTART:20261101T060000
END:STANDARD
BEGIN:DAYLIGHT
TZOFFSETFROM:-0500
TZOFFSETTO:-0400
TZNAME:EDT
DTSTART:20270314T070000
END:DAYLIGHT
BEGIN:STANDARD
TZOFFSETFROM:-0400
TZOFFSETTO:-0500
TZNAME:EST
DTSTART:20271107T060000
END:STANDARD
END:VTIMEZONE
BEGIN:VEVENT
DTSTART;TZID=America/New_York:20260426T090000
DTEND;TZID=America/New_York:20260427T230000
DTSTAMP:20260422T124913
CREATED:20260421T003449Z
LAST-MODIFIED:20260421T003756Z
UID:3191-1777194000-1777330800@heroeshoard.com
SUMMARY:Congress of Gamers Spring Session
DESCRIPTION:Join us for this cozy little con full of open gaming\, tournaments\, a game auction shop\, TTRPGs\, and more! Find us on the stage in the main gaming room!
URL:https://heroeshoard.com/event/congress-of-gamers-spring-session/
LOCATION:Rockville Senior Center\, 1150 Carnation Drive\, Rockville\, MD\, 20850\, United States
CATEGORIES:Conventions
END:VEVENT
BEGIN:VEVENT
DTSTART;VALUE=DATE:20260522
DTEND;VALUE=DATE:20260526
DTSTAMP:20260422T124913
CREATED:20260421T010436Z
LAST-MODIFIED:20260421T010617Z
UID:3237-1779408000-1779753599@heroeshoard.com
SUMMARY:Balticon 60
DESCRIPTION:Join in the 60th Balticon Fantasy and Sci-Fi Convention\, featuring guests Jim Butcher\, The Faithful Sidekicks\, and Jennifer Blackstream! 4 days of gaming\, panels\, seminars\, vendors\, and fun! \nFind us in the dealers hall for our 2nd ever Balticon\, booth info to come!
URL:https://heroeshoard.com/event/balticon-60/
LOCATION:The Renaissance Baltimore Harborplace Hotel\, 202 East Pratt Street\, Baltimore\, MD\, 21202\, United States
CATEGORIES:Conventions
END:VEVENT
BEGIN:VEVENT
DTSTART;VALUE=DATE:20260627
DTEND;VALUE=DATE:20260628
DTSTAMP:20260422T124913
CREATED:20260421T230649Z
LAST-MODIFIED:20260421T230649Z
UID:3245-1782518400-1782604799@heroeshoard.com
SUMMARY:Stellar Con
DESCRIPTION:A new appearance for us\, MD’s own little Anime and Gaming convention! Come check out the cosplay\, anime VO guests\, arcade\, and vendor hall (not to mention the after party!). \nFind us in the main vendor hall\, booth info TBD!
URL:https://heroeshoard.com/event/stellar-con/
LOCATION:CEI Arena\, 1000 Hilltop Circle\, Catonsville\, MD\, 21250\, United States
END:VEVENT
BEGIN:VEVENT
DTSTART;TZID=America/New_York:20260926T110000
DTEND;TZID=America/New_York:20260926T190000
DTSTAMP:20260422T124913
CREATED:20260421T231020Z
LAST-MODIFIED:20260421T231020Z
UID:3247-1790420400-1790449200@heroeshoard.com
SUMMARY:RisuCon 2026
DESCRIPTION:An anime/gaming/cosplay convention that has a squirrel mascot – what’s not to like?? There’s anime to watch\, cosplay to see\, games to play\, and 4 (YES\, FOUR) vendor halls to browse!
URL:https://heroeshoard.com/event/risucon-2026/
LOCATION:Montgomery County Fairgrounds\, 33 Dalamar Street\, Gaithersburg\, MD\, 20877\, United States
CATEGORIES:Conventions
END:VEVENT
BEGIN:VEVENT
DTSTART;TZID=America/New_York:20261128T110000
DTEND;TZID=America/New_York:20261128T160000
DTSTAMP:20260422T124913
CREATED:20260421T231245Z
LAST-MODIFIED:20260421T231525Z
UID:3249-1795863600-1795881600@heroeshoard.com
SUMMARY:Small Business Saturday
DESCRIPTION:This free outdoor market is a great place to get all your holiday gifts in one place! Tons of vendors of all shapes and sizes\, lots of food right next to it\, holiday activities\, and shops to browse to warm up between vendor stalls. \n  \nBooth location TBD!
URL:https://heroeshoard.com/event/small-business-saturday/
LOCATION:The AVENUE at White Marsh\, 8125 Honeygo Blvd\, Baltimore\, MD\, 21236\, United States
CATEGORIES:Craft Fairs and Markets
END:VEVENT
END:VCALENDAR